BEGIN:VCALENDAR
VERSION:2.0
PRODID:www.hoteldena.com
X-WR-CALNAME:Calendar Of Events
X-WR-CALDESC:Lists the events
X-WR-TIMEZONE:America/New_York
BEGIN:VTIMEZONE
TZID:America/New_York
X-LIC-LOCATION:America/New_York
END:VTIMEZONE
BEGIN:VEVENT
UID:69ecd2588828f
DTSTART;VALUE=DATE:20240624
SEQUENCE:0
TRANSP:OPAQUE
URL:https://www.hoteldena.com/calendar/happy-hour
SUMMARY:Happy Hour
CLASS:PUBLIC
DESCRIPTION:Happy Hour\n\nKick back and enjoy our Happy Hour specials from 
 5 PM-7 PM during the week.
RRULE:FREQ=WEEKLY;INTERVAL=1;BYDAY=MO,TU,WE,TH,FR
X-MICROSOFT-CDO-ALLDAYEVENT:TRUE
CATEGORIES:Agents Only
DTSTAMP:20260425T144024Z
END:VEVENT
BEGIN:VEVENT
UID:69ecd2588898d
DTSTART;VALUE=DATE:20241112
SEQUENCE:0
TRANSP:OPAQUE
URL:https://www.hoteldena.com/calendar/taco-tuesday-16
SUMMARY:Taco Tuesday
CLASS:PUBLIC
DESCRIPTION:Taco Tuesday\n\nLet's Taco'bout it! Every Tuesday\, sip and sav
 e with our Taco Tuesday Specials.
RRULE:FREQ=WEEKLY;INTERVAL=1;BYDAY=TU
X-MICROSOFT-CDO-ALLDAYEVENT:TRUE
DTSTAMP:20260425T144024Z
END:VEVENT
BEGIN:VEVENT
UID:69ecd25888e1e
DTSTART;VALUE=DATE:20250104
SEQUENCE:0
TRANSP:OPAQUE
URL:https://www.hoteldena.com/calendar/brunch-at-lyrics
SUMMARY:Brunch at Lyrics
CLASS:PUBLIC
DESCRIPTION:Brunch at Lyrics\n\nJoin us every Saturday and Sunday at Lyrics
  for brunch.
RRULE:FREQ=WEEKLY;INTERVAL=1;BYDAY=SA,SU
X-MICROSOFT-CDO-ALLDAYEVENT:TRUE
DTSTAMP:20260425T144024Z
END:VEVENT
BEGIN:VEVENT
UID:69ecd25889224
DTSTART;VALUE=DATE:20250812
SEQUENCE:0
TRANSP:OPAQUE
URL:https://www.hoteldena.com/calendar/asian-real-estate-super-summit
SUMMARY:Asian Real Estate Super Summit
CLASS:PUBLIC
DESCRIPTION:Asian Real Estate Super Summit\n\n
RRULE:FREQ=DAILY;INTERVAL=1
X-MICROSOFT-CDO-ALLDAYEVENT:TRUE
DTSTAMP:20260425T144024Z
END:VEVENT
BEGIN:VEVENT
UID:69ecd25889522
DTSTART;VALUE=DATE:20250919
SEQUENCE:0
TRANSP:OPAQUE
URL:https://www.hoteldena.com/calendar/fiestas-patrias
SUMMARY:Fiestas Patrias
CLASS:PUBLIC
DESCRIPTION:Fiestas Patrias\n\nCelebrate the independence of 18 Latin Ameri
 can countries at Villa Parke Community Center on September 19\, 5–9 PM.
RRULE:FREQ=DAILY;INTERVAL=1
X-MICROSOFT-CDO-ALLDAYEVENT:TRUE
DTSTAMP:20260425T144024Z
END:VEVENT
BEGIN:VEVENT
UID:69ecd2588981e
DTSTART;VALUE=DATE:20250919
SEQUENCE:0
TRANSP:OPAQUE
URL:https://www.hoteldena.com/calendar/haunted-pasadena
SUMMARY:Haunted Pasadena
CLASS:PUBLIC
DESCRIPTION:Haunted Pasadena\n\nExplore eerie alleys\, hidden courtyards\, 
 and historic haunted sites on this guided walking tour through Pasadena’
 s spooky past.
RRULE:FREQ=DAILY;INTERVAL=1
X-MICROSOFT-CDO-ALLDAYEVENT:TRUE
DTSTAMP:20260425T144024Z
END:VEVENT
BEGIN:VEVENT
UID:69ecd25889b16
DTSTART;VALUE=DATE:20250921
SEQUENCE:0
TRANSP:OPAQUE
URL:https://www.hoteldena.com/calendar/the-langham-huntington-film-tour
SUMMARY:The Langham Huntington Film Tour
CLASS:PUBLIC
DESCRIPTION:The Langham Huntington Film Tour\n\nLangham Huntington Film Tou
 r is a 90-minute guided walk through the Pasadena hotel\, highlighting its
  roles in popular films and TV shows
RRULE:FREQ=DAILY;INTERVAL=1
X-MICROSOFT-CDO-ALLDAYEVENT:TRUE
DTSTAMP:20260425T144024Z
END:VEVENT
BEGIN:VEVENT
UID:69ecd25889e02
DTSTART;VALUE=DATE:20250921
SEQUENCE:0
TRANSP:OPAQUE
URL:https://www.hoteldena.com/calendar/pasadena-after-hours
SUMMARY:Pasadena After Hours
CLASS:PUBLIC
DESCRIPTION:Pasadena After Hours\n\nPasadena After Hours is a guided walkin
 g tour uncovering the hidden nightlife history of East Pasadena’s once-t
 hriving entertainment
RRULE:FREQ=DAILY;INTERVAL=1
X-MICROSOFT-CDO-ALLDAYEVENT:TRUE
DTSTAMP:20260425T144024Z
END:VEVENT
BEGIN:VEVENT
UID:69ecd2588a17e
DTSTART;VALUE=DATE:20250925
SEQUENCE:0
TRANSP:OPAQUE
URL:https://www.hoteldena.com/calendar/california-choro-club
SUMMARY:California Choro Club
CLASS:PUBLIC
DESCRIPTION:California Choro Club\n\nCalifornia Choro Club brings Brazilian
  jazz and samba to Pasadena’s historic Blinn House in celebration of Lat
 ino Heritage Month.
RRULE:FREQ=DAILY;INTERVAL=1
X-MICROSOFT-CDO-ALLDAYEVENT:TRUE
DTSTAMP:20260425T144024Z
END:VEVENT
BEGIN:VEVENT
UID:69ecd2588a46d
DTSTART;VALUE=DATE:20251018
SEQUENCE:0
TRANSP:OPAQUE
URL:https://www.hoteldena.com/calendar/ucla-vs-maryland
SUMMARY:UCLA vs. Maryland
CLASS:PUBLIC
DESCRIPTION:UCLA vs. Maryland\n\nDon’t miss UCLA vs. Maryland at the Rose
  Bowl Stadium on October 18\, 2025. Enjoy an unforgettable college footbal
 l experience with fanfare\,
RRULE:FREQ=DAILY;INTERVAL=1
X-MICROSOFT-CDO-ALLDAYEVENT:TRUE
DTSTAMP:20260425T144024Z
END:VEVENT
BEGIN:VEVENT
UID:69ecd2588a7a8
DTSTART;VALUE=DATE:20251018
SEQUENCE:0
TRANSP:OPAQUE
URL:https://www.hoteldena.com/calendar/paint-and-aguas-frescas
SUMMARY:Paint and Aguas Frescas
CLASS:PUBLIC
DESCRIPTION:Paint and Aguas Frescas\n\nJoin Paint and Aguas Frescas at Vill
 a Parke Community Center on Oct 18\, 2025. Celebrate Hispanic Heritage Mon
 th with free painting
RRULE:FREQ=DAILY;INTERVAL=1
X-MICROSOFT-CDO-ALLDAYEVENT:TRUE
DTSTAMP:20260425T144024Z
END:VEVENT
BEGIN:VEVENT
UID:69ecd2588aa54
DTSTART;VALUE=DATE:20251021
SEQUENCE:0
TRANSP:OPAQUE
URL:https://www.hoteldena.com/calendar/distinguished-speaker-series-ella-al
 -shamahi
SUMMARY:Distinguished Speaker Series - Ella Al-Shamahi
CLASS:PUBLIC
DESCRIPTION:Distinguished Speaker Series - Ella Al-Shamahi\n\nHear Ella Al-
 Shamahi live at the Pasadena Civic Auditorium on Oct 21\, 2025. Explore sc
 ience\, humor\, and adventure in this inspiring Speaker
RRULE:FREQ=DAILY;INTERVAL=1
X-MICROSOFT-CDO-ALLDAYEVENT:TRUE
DTSTAMP:20260425T144024Z
END:VEVENT
BEGIN:VEVENT
UID:69ecd2588ad62
DTSTART;VALUE=DATE:20251024
SEQUENCE:0
TRANSP:OPAQUE
URL:https://www.hoteldena.com/calendar/da-de-los-muertos-celebration-villa-
 parke-pasadena-oct-24-2025
SUMMARY:Día de los Muertos Celebration | Villa Parke Pasadena | Oct 24\, 2
 025
CLASS:PUBLIC
DESCRIPTION:Día de los Muertos Celebration | Villa Parke Pasadena | Oct 24
 \, 2025\n\nJoin Pasadena’s Día de los Muertos celebration on Oct 24\, 2
 025\, at Villa Parke Community Center.
RRULE:FREQ=DAILY;INTERVAL=1
X-MICROSOFT-CDO-ALLDAYEVENT:TRUE
DTSTAMP:20260425T144024Z
END:VEVENT
BEGIN:VEVENT
UID:69ecd2588b09c
DTSTART;VALUE=DATE:20251025
SEQUENCE:0
TRANSP:OPAQUE
URL:https://www.hoteldena.com/calendar/goat-yoga-at-the-gamble-house-pasade
 na-wellness-event-oct-25-2025
SUMMARY:Goat Yoga at the Gamble House | Pasadena Wellness Event | Oct 25\, 
 2025
CLASS:PUBLIC
DESCRIPTION:Goat Yoga at the Gamble House | Pasadena Wellness Event | Oct 2
 5\, 2025\n\nJoin Goat Yoga at the Gamble House in Pasadena on Oct 25\, 202
 5. Enjoy yoga with friendly goats in a historic setting.
RRULE:FREQ=DAILY;INTERVAL=1
X-MICROSOFT-CDO-ALLDAYEVENT:TRUE
DTSTAMP:20260425T144024Z
END:VEVENT
BEGIN:VEVENT
UID:69ecd2588b394
DTSTART;VALUE=DATE:20251026
SEQUENCE:0
TRANSP:OPAQUE
URL:https://www.hoteldena.com/calendar/bark-in-the-park-howl-o-ween
SUMMARY:Bark in the Park: Howl-o-ween
CLASS:PUBLIC
DESCRIPTION:Bark in the Park: Howl-o-ween\n\nCelebrate Halloween with your 
 pup at Bark in the Park: Howl-o-Ween in Pasadena on Oct 26\, 2025.
RRULE:FREQ=DAILY;INTERVAL=1
X-MICROSOFT-CDO-ALLDAYEVENT:TRUE
DTSTAMP:20260425T144024Z
END:VEVENT
BEGIN:VEVENT
UID:69ecd2588b6b9
DTSTART;VALUE=DATE:20251028
SEQUENCE:0
TRANSP:OPAQUE
URL:https://www.hoteldena.com/calendar/my-favorite-murder-live
SUMMARY:My Favorite Murder Live!
CLASS:PUBLIC
DESCRIPTION:My Favorite Murder Live!\n\n
RRULE:FREQ=DAILY;INTERVAL=1
X-MICROSOFT-CDO-ALLDAYEVENT:TRUE
DTSTAMP:20260425T144024Z
END:VEVENT
BEGIN:VEVENT
UID:69ecd2588b9a0
DTSTART;VALUE=DATE:20251031
SEQUENCE:0
TRANSP:OPAQUE
URL:https://www.hoteldena.com/calendar/rose-bowl-stadium-tours
SUMMARY:Rose Bowl Stadium Tours
CLASS:PUBLIC
DESCRIPTION:Rose Bowl Stadium Tours\n\nRose Bowl Stadium Tours offer a mont
 hly behind-the-scenes look at Pasadena’s historic stadium\, including th
 e locker room and field.
RRULE:FREQ=DAILY;INTERVAL=1
X-MICROSOFT-CDO-ALLDAYEVENT:TRUE
DTSTAMP:20260425T144024Z
END:VEVENT
BEGIN:VEVENT
UID:69ecd2588bc9d
DTSTART;VALUE=DATE:20251213
SEQUENCE:0
TRANSP:OPAQUE
URL:https://www.hoteldena.com/calendar/jingle-mingle-at-pasadena-playhouse
SUMMARY:Jingle & Mingle at Pasadena Playhouse
CLASS:PUBLIC
DESCRIPTION:Jingle & Mingle at Pasadena Playhouse\n\nJingle & Mingle at Pas
 adena Playhouse is a festive holiday celebration on December 13\, 2025\, f
 eaturing two ticketed holiday concerts
RRULE:FREQ=DAILY;INTERVAL=1
X-MICROSOFT-CDO-ALLDAYEVENT:TRUE
DTSTAMP:20260425T144024Z
END:VEVENT
BEGIN:VEVENT
UID:69ecd2588bf8a
DTSTART;VALUE=DATE:20251214
SEQUENCE:0
TRANSP:OPAQUE
URL:https://www.hoteldena.com/calendar/castle-green-holiday-tour
SUMMARY:Castle Green Holiday Tour
CLASS:PUBLIC
DESCRIPTION:Castle Green Holiday Tour\n\nCelebrate the season at Castle Gre
 en’s Holiday Tour on December 14\, 2025. Enjoy a self-guided tour of the
  historic building.
RRULE:FREQ=DAILY;INTERVAL=1
X-MICROSOFT-CDO-ALLDAYEVENT:TRUE
DTSTAMP:20260425T144024Z
END:VEVENT
BEGIN:VEVENT
UID:69ecd2588c271
DTSTART;VALUE=DATE:20251229
SEQUENCE:0
TRANSP:OPAQUE
URL:https://www.hoteldena.com/calendar/equestfest
SUMMARY:Equestfest
CLASS:PUBLIC
DESCRIPTION:Equestfest\n\nEquestfest at the Los Angeles Equestrian Center i
 s a dynamic family-friendly event on December 29\, 2025 (10 AM–3 PM)
 .
RRULE:FREQ=DAILY;INTERVAL=1
X-MICROSOFT-CDO-ALLDAYEVENT:TRUE
DTSTAMP:20260425T144024Z
END:VEVENT
BEGIN:VEVENT
UID:69ecd2588c551
DTSTART;VALUE=DATE:20260822
SEQUENCE:0
TRANSP:OPAQUE
URL:https://www.hoteldena.com/calendar/just-like-heaven
SUMMARY:Just Like Heaven
CLASS:PUBLIC
DESCRIPTION:Just Like Heaven\n\nJust Like Heaven music festival returns to 
 Brookside at The Rose Bowl on Saturday\, August 22\, 2026.
RRULE:FREQ=DAILY;INTERVAL=1;UNTIL=20260822T000000Z
X-MICROSOFT-CDO-ALLDAYEVENT:TRUE
CATEGORIES:Local Events
DTSTAMP:20260425T144024Z
END:VEVENT
BEGIN:VEVENT
UID:69ecd2588c817
DTSTART;VALUE=DATE:20260912
SEQUENCE:0
TRANSP:OPAQUE
URL:https://www.hoteldena.com/calendar/san-diego-state-vs-ucla
SUMMARY:SAN DIEGO STATE VS UCLA
CLASS:PUBLIC
DESCRIPTION:SAN DIEGO STATE VS UCLA\n\nThe 2026 UCLA Football Season will k
 ickoff with the first home game of the season at the Rose Bowl Stadium.
RRULE:FREQ=DAILY;INTERVAL=1
X-MICROSOFT-CDO-ALLDAYEVENT:TRUE
DTSTAMP:20260425T144024Z
END:VEVENT
BEGIN:VEVENT
UID:69ecd2588cad6
DTSTART;VALUE=DATE:20260919
SEQUENCE:0
TRANSP:OPAQUE
URL:https://www.hoteldena.com/calendar/purdue-vs-ucla
SUMMARY:PURDUE VS UCLA
CLASS:PUBLIC
DESCRIPTION:PURDUE VS UCLA\n\nThe 2026 UCLA Football Season will kickoff wi
 th the first home game of the season at the Rose Bowl Stadium.
RRULE:FREQ=DAILY;INTERVAL=1
X-MICROSOFT-CDO-ALLDAYEVENT:TRUE
DTSTAMP:20260425T144024Z
END:VEVENT
BEGIN:VEVENT
UID:69ecd2588cdd2
DTSTART;VALUE=DATE:20261017
SEQUENCE:0
TRANSP:OPAQUE
URL:https://www.hoteldena.com/calendar/wisconsinvs-ucla
SUMMARY:Wisconsin VS UCLA
CLASS:PUBLIC
DESCRIPTION:Wisconsin VS UCLA\n\nThe 2026 UCLA Football Season will kickof
 f with the first home game of the season at the Rose Bowl Stadium.
RRULE:FREQ=DAILY;INTERVAL=1
X-MICROSOFT-CDO-ALLDAYEVENT:TRUE
DTSTAMP:20260425T144024Z
END:VEVENT
BEGIN:VEVENT
UID:69ecd2588d082
DTSTART;VALUE=DATE:20261024
SEQUENCE:0
TRANSP:OPAQUE
URL:https://www.hoteldena.com/calendar/michigan-state-vs-ucla
SUMMARY:Michigan State VS UCLA
CLASS:PUBLIC
DESCRIPTION:Michigan State VS UCLA\n\nThe 2026 UCLA Football Season will ki
 ckoff with the first home game of the season at the Rose Bowl Stadium
RRULE:FREQ=DAILY;INTERVAL=1
X-MICROSOFT-CDO-ALLDAYEVENT:TRUE
DTSTAMP:20260425T144024Z
END:VEVENT
BEGIN:VEVENT
UID:69ecd2588d32b
DTSTART;VALUE=DATE:20261031
SEQUENCE:0
TRANSP:OPAQUE
URL:https://www.hoteldena.com/calendar/nevada-vs-ucla
SUMMARY:Nevada VS UCLA
CLASS:PUBLIC
DESCRIPTION:Nevada VS UCLA\n\nThe 2026 UCLA Football Season will kickoff wi
 th the first home game of the season at the Rose Bowl Stadium.
RRULE:FREQ=DAILY;INTERVAL=1
X-MICROSOFT-CDO-ALLDAYEVENT:TRUE
DTSTAMP:20260425T144024Z
END:VEVENT
BEGIN:VEVENT
UID:69ecd2588d604
DTSTART;VALUE=DATE:20261114
SEQUENCE:0
TRANSP:OPAQUE
URL:https://www.hoteldena.com/calendar/illinois-vs-ucla
SUMMARY:Illinois VS UCLA
CLASS:PUBLIC
DESCRIPTION:Illinois VS UCLA\n\nThe 2026 UCLA Football Season will kickoff 
 with the first home game of the season at the Rose Bowl Stadium.
RRULE:FREQ=DAILY;INTERVAL=1
X-MICROSOFT-CDO-ALLDAYEVENT:TRUE
DTSTAMP:20260425T144024Z
END:VEVENT
BEGIN:VEVENT
UID:69ecd2588d8c3
DTSTART;VALUE=DATE:20261128
SEQUENCE:0
TRANSP:OPAQUE
URL:https://www.hoteldena.com/calendar/usc-vs-ucla
SUMMARY:USC VS UCLA
CLASS:PUBLIC
DESCRIPTION:USC VS UCLA\n\nThe 2026 UCLA Football Season will kickoff with 
 the first home game of the season at the Rose Bowl Stadium.
RRULE:FREQ=DAILY;INTERVAL=1
X-MICROSOFT-CDO-ALLDAYEVENT:TRUE
DTSTAMP:20260425T144024Z
END:VEVENT
END:VCALENDAR